BEGIN:VCALENDAR
VERSION:2.0
PRODID:-//Landesrat.hu - ECPv6.3.2//NONSGML v1.0//EN
CALSCALE:GREGORIAN
METHOD:PUBLISH
X-ORIGINAL-URL:https://landesrat.hu
X-WR-CALDESC:Events for Landesrat.hu
REFRESH-INTERVAL;VALUE=DURATION:PT1H
X-Robots-Tag:noindex
X-PUBLISHED-TTL:PT1H
BEGIN:VTIMEZONE
TZID:Europe/Budapest
BEGIN:DAYLIGHT
TZOFFSETFROM:+0100
TZOFFSETTO:+0200
TZNAME:CEST
DTSTART:20230326T010000
END:DAYLIGHT
BEGIN:STANDARD
TZOFFSETFROM:+0200
TZOFFSETTO:+0100
TZNAME:CET
DTSTART:20231029T010000
END:STANDARD
BEGIN:DAYLIGHT
TZOFFSETFROM:+0100
TZOFFSETTO:+0200
TZNAME:CEST
DTSTART:20240331T010000
END:DAYLIGHT
BEGIN:STANDARD
TZOFFSETFROM:+0200
TZOFFSETTO:+0100
TZNAME:CET
DTSTART:20241027T010000
END:STANDARD
END:VTIMEZONE
BEGIN:VEVENT
DTSTART;TZID=Europe/Budapest:20241228T180000
DTEND;TZID=Europe/Budapest:20241229T020000
DTSTAMP:20260426T033138
CREATED:20241220T125927Z
LAST-MODIFIED:20241220T125927Z
UID:16973-1735408800-1735437600@landesrat.hu
SUMMARY:III. Pécsi Sváb Fesztivál 2024
DESCRIPTION:A Szederkényi Német Önkormányzat szervezésében idén is megrendezésre kerül a Pécsi Sváb Fesztivált az Expo Centerben\, december 28-án.\nIdén az osztrák népzene egyik legnépszerűbb csillaga\, az Edlseer zenekar lesz velünk\, akik minden fellépésükön elképesztő hangulatot varázsolnak a színpadra és a táncparkettre\, továbbá itt lesz az Unterrock Kapelle\, a hazai sváb bulik fantasztikus zenekara. A nemzetiségi műsorban pedig Baranya megye és a környék legkiválóbb sváb zenészei\, énekesei és néptáncosai fognak fellépni. 🙂\nDecember 1-től 7000 Ft lesz a belépőjegy\, az ifjúsági jegy pedig 5000 Ft lesz egységesen (18 év alatt)\nVIP jegyeink is vannak\, melyek a VIP szektorba\, vacsorával\, üdvözlő itallal és VIP parkolással 20000 Ft-ért kaphatók.\nAz Expoban sörpadok lesznek\, mindenkinek lesz ülőhelye.🙂\n(idén érkezési sorrendben lehet elfoglalni a helyeket\, nem lehet asztalt foglalni) úgyhogy szeretettel várjuk az idősebb generáció tagjait is\, hiszen ez egy olyan buli\, ahol kortalanul mind együtt lehetünk\, a 10-től a 80 évesig! Sőt 80 felett (és 14 év alatt) a belépés ingyenes!\nCsoportos jegyrendelés a svabfesztival@gmail.com címen lehetséges.\nVárunk mindenkit szeretettel a legnagyobb pécsi sváb buliba a két ünnep között!!!
URL:https://landesrat.hu/event/iii-pecsi-svab-fesztival-2024/
LOCATION:Pécs Expo Center\, Megyeri út 72.\, Pécs\, Baranya\, 7631\, Magyarország
CATEGORIES:Landeskalender,Lokális rendezvény
ATTACH;FMTTYPE=image/jpeg:https://landesrat.hu/wp-content/uploads/2024/12/svab-fesztival.jpg
ORGANIZER;CN="Szederk%C3%A9nyi N%C3%A9met %C3%96nkorm%C3%A1nyzat - Ulbert Ren%C3%A1ta":MAILTO:ulbertrenata@t-online.hu
GEO:46.0500468;18.2125687
X-APPLE-STRUCTURED-LOCATION;VALUE=URI;X-ADDRESS=Pécs Expo Center Megyeri út 72. Pécs Baranya 7631 Magyarország;X-APPLE-RADIUS=500;X-TITLE=Megyeri út 72.:geo:18.2125687,46.0500468
END:VEVENT
BEGIN:VEVENT
DTSTART;TZID=Europe/Budapest:20231228T180000
DTEND;TZID=Europe/Budapest:20231229T020000
DTSTAMP:20260426T033138
CREATED:20231024T142318Z
LAST-MODIFIED:20231024T142318Z
UID:12856-1703786400-1703815200@landesrat.hu
SUMMARY:II. Pécsi Sváb Fesztivál 2023
DESCRIPTION:A Winterfest of Pécs égisze alatt\, a Szederkényi Német Önkormányzat szervezésében idén is megrendezésre kerül a Pécsi Sváb Fesztivált az Expo Centerben\, december 28-án.\nA még nagyszerűbb hír pedig az\, hogy idén nem kisebb sztárvendéget\, mint Marc Pirchert sikerült megnyerni az eseményre!!!\nMarc Pircher az osztrák népzene egyik legnagyobb sztárja\, többszörös “Grand Prix der Volksmusik” és “Amadeus Award” győztes.\nElképesztő hangulatot teremt\, és jól ismert slágereit\, mint a “Schatzi schenk mir ein Foto” vagy a “Sieben Sünden”-t is elhozza nekünk. 🙂 Természetesen itt lesz a már jól ismert Junge Paldauer is\, akik a tőlük megszokott szuper\, hajnalig tartó élőzenés bulit biztosítják\, mint ahogy a hazai német nemzetiség legkiválóbb csapatai: a Fünfkirchen-Leőwey Tanzgruppe\, a Fekeder Musikanten\, a Wemender Männerchor\, és debütál nálunk a mohácsi Donau Krainer is.\nBelépő:\nNovember 15-ig: 5.000 Ft November 16-tól: 6.000 Ft\nIfjúsági: 4.000 Ft (18 éves korig. A belépéskor az életkort igazolni kell)\nFelnőtt helyszíni: 7.000 Ft\nIfjúsági helyszíni: 5.000 Ft\nJegyértékesítési helyszínek a Pécsi Sváb Fesztivál facebook oldalán.
URL:https://landesrat.hu/event/ii-pecsi-svab-fesztival-2023/
LOCATION:Pécs Expo Center\, Megyeri út 72.\, Pécs\, Baranya\, 7631\, Magyarország
CATEGORIES:Landeskalender,Lokális rendezvény
ATTACH;FMTTYPE=image/jpeg:https://landesrat.hu/wp-content/uploads/2023/10/Pecsi-Svab-Fesztival.jpg
ORGANIZER;CN="Szederk%C3%A9nyi N%C3%A9met %C3%96nkorm%C3%A1nyzat - Ulbert Ren%C3%A1ta":MAILTO:ulbertrenata@t-online.hu
GEO:46.0500468;18.2125687
X-APPLE-STRUCTURED-LOCATION;VALUE=URI;X-ADDRESS=Pécs Expo Center Megyeri út 72. Pécs Baranya 7631 Magyarország;X-APPLE-RADIUS=500;X-TITLE=Megyeri út 72.:geo:18.2125687,46.0500468
END:VEVENT
END:VCALENDAR