BEGIN:VCALENDAR
VERSION:2.0
PRODID:-//Landesrat.hu - ECPv6.3.2//NONSGML v1.0//EN
CALSCALE:GREGORIAN
METHOD:PUBLISH
X-ORIGINAL-URL:https://landesrat.hu
X-WR-CALDESC:Events for Landesrat.hu
REFRESH-INTERVAL;VALUE=DURATION:PT1H
X-Robots-Tag:noindex
X-PUBLISHED-TTL:PT1H
BEGIN:VTIMEZONE
TZID:Europe/Budapest
BEGIN:DAYLIGHT
TZOFFSETFROM:+0100
TZOFFSETTO:+0200
TZNAME:CEST
DTSTART:20210328T010000
END:DAYLIGHT
BEGIN:STANDARD
TZOFFSETFROM:+0200
TZOFFSETTO:+0100
TZNAME:CET
DTSTART:20211031T010000
END:STANDARD
END:VTIMEZONE
BEGIN:VEVENT
DTSTART;TZID=Europe/Budapest:20210711T180000
DTEND;TZID=Europe/Budapest:20210711T190000
DTSTAMP:20260426T000118
CREATED:20210428T172224Z
LAST-MODIFIED:20210824T092743Z
UID:3865-1626026400-1626030000@landesrat.hu
SUMMARY:Térzenék a Jókai téren
DESCRIPTION:Térzenék a Jókai téren a Die Neun Branauer Musikanten együttessel.\nTöbb mint két évtizede kerülnek megrendezésre Pécsett a nyári hónapokban a magyarországi német fúvószenekarok által adott szabadtéri koncertek. A pécsi ill. a régióból érkező zenekarok ismert magyarországi német fúvószenekari darabokat adnak elő a közönség szórakoztatására. A rendezvény célja\, hogy bemutassa a közönségnek a magyarországi németség értékes zenei örökségének legszebb és leghangulatosabb darabjait\, valamint megmutassa a nézőknek és járókelőknek\, hogy városunkban és körzetében létezik egy eleven magyarországi német közösség.
URL:https://landesrat.hu/event/pecsi-terzenek/
LOCATION:Pécs Jókai tér\, Jókai tér\, Pécs\, Baranya\, 7621\, Magyarország
CATEGORIES:Landeskalender,Lokális rendezvény
ATTACH;FMTTYPE=image/jpeg:https://landesrat.hu/wp-content/uploads/2021/04/07_9BranauerMusikanten_20200712_NNFoto-scaled.jpg
ORGANIZER;CN="Lenau Haus":MAILTO:info@lenau.hu
GEO:46.0753699;18.2277826
X-APPLE-STRUCTURED-LOCATION;VALUE=URI;X-ADDRESS=Pécs Jókai tér Jókai tér Pécs Baranya 7621 Magyarország;X-APPLE-RADIUS=500;X-TITLE=Jókai tér:geo:18.2277826,46.0753699
END:VEVENT
END:VCALENDAR