BEGIN:VCALENDAR
VERSION:2.0
PRODID:-//Landesrat.hu - ECPv6.3.2//NONSGML v1.0//EN
CALSCALE:GREGORIAN
METHOD:PUBLISH
X-ORIGINAL-URL:https://landesrat.hu
X-WR-CALDESC:Events for Landesrat.hu
REFRESH-INTERVAL;VALUE=DURATION:PT1H
X-Robots-Tag:noindex
X-PUBLISHED-TTL:PT1H
BEGIN:VTIMEZONE
TZID:Europe/Budapest
BEGIN:DAYLIGHT
TZOFFSETFROM:+0100
TZOFFSETTO:+0200
TZNAME:CEST
DTSTART:20210328T010000
END:DAYLIGHT
BEGIN:STANDARD
TZOFFSETFROM:+0200
TZOFFSETTO:+0100
TZNAME:CET
DTSTART:20211031T010000
END:STANDARD
BEGIN:DAYLIGHT
TZOFFSETFROM:+0100
TZOFFSETTO:+0200
TZNAME:CEST
DTSTART:20220327T010000
END:DAYLIGHT
BEGIN:STANDARD
TZOFFSETFROM:+0200
TZOFFSETTO:+0100
TZNAME:CET
DTSTART:20221030T010000
END:STANDARD
BEGIN:DAYLIGHT
TZOFFSETFROM:+0100
TZOFFSETTO:+0200
TZNAME:CEST
DTSTART:20230326T010000
END:DAYLIGHT
BEGIN:STANDARD
TZOFFSETFROM:+0200
TZOFFSETTO:+0100
TZNAME:CET
DTSTART:20231029T010000
END:STANDARD
END:VTIMEZONE
BEGIN:VEVENT
DTSTART;TZID=Europe/Budapest:20230916T160000
DTEND;TZID=Europe/Budapest:20230917T020000
DTSTAMP:20260426T013610
CREATED:20230906T150555Z
LAST-MODIFIED:20230906T150555Z
UID:12594-1694880000-1694916000@landesrat.hu
SUMMARY:Összeköt a Karasica Szederkény
DESCRIPTION:Karasica menti falvak kulturális találkozója
URL:https://landesrat.hu/event/osszekot-a-karasica-szederkeny/
LOCATION:Szederkény Művelődési Ház – Fesztiválsátor\, Rákóczi F. u. 12.\, Szederkény\, Baranya\, 7751
CATEGORIES:Landeskalender,Lokális rendezvény
ATTACH;FMTTYPE=image/jpeg:https://landesrat.hu/wp-content/uploads/2023/09/OAK-2023_2-scaled.jpg
ORGANIZER;CN="B%C3%A9l%C3%A1di Melinda":MAILTO:szederkenymh@gmail.com
GEO:45.9989158;18.4503514
X-APPLE-STRUCTURED-LOCATION;VALUE=URI;X-ADDRESS=Szederkény Művelődési Ház – Fesztiválsátor Rákóczi F. u. 12. Szederkény Baranya 7751;X-APPLE-RADIUS=500;X-TITLE=Rákóczi F. u. 12.:geo:18.4503514,45.9989158
END:VEVENT
BEGIN:VEVENT
DTSTART;TZID=Europe/Budapest:20210918T140000
DTEND;TZID=Europe/Budapest:20210919T020000
DTSTAMP:20260426T013610
CREATED:20210513T095429Z
LAST-MODIFIED:20210819T054636Z
UID:4751-1631973600-1632016800@landesrat.hu
SUMMARY:Összeköt a Karasica
DESCRIPTION:A Szederkényi Szüreti Nap több mint 20 éves múltra tekint vissza. 2015-ben egy innovatív ötletnek köszönhetően\, Karasica menti falvak gasztronómiai kulturális rendezvényévé alakítottuk\, ami 2 évente Szederkényben\, a többi években más településen kerül megrendezésre. Rendezvény neve az összetartozás erősítése miatt “Összeköt a Karasica ” nevet kapta. A patak 26 települést érint Fekedtől Batináig\, átlépve az országhatárt is.
URL:https://landesrat.hu/event/osszekot-a-karasica/
LOCATION:Szederkény Művelődési Ház\, Rákóczi F. u. 12.\, Szederkény\, Baranya\, 7751\, Magyarország
CATEGORIES:Landeskalender,Lokális rendezvény
ATTACH;FMTTYPE=image/jpeg:https://landesrat.hu/wp-content/uploads/2021/05/Szorolap-FB.jpg
ORGANIZER;CN="B%C3%A9l%C3%A1di Melinda":MAILTO:szederkenymh@gmail.com
GEO:45.975252;18.430124
X-APPLE-STRUCTURED-LOCATION;VALUE=URI;X-ADDRESS=Szederkény Művelődési Ház Rákóczi F. u. 12. Szederkény Baranya 7751 Magyarország;X-APPLE-RADIUS=500;X-TITLE=Rákóczi F. u. 12.:geo:18.430124,45.975252
END:VEVENT
END:VCALENDAR