BEGIN:VCALENDAR
VERSION:2.0
PRODID:-//Landesrat.hu - ECPv6.3.2//NONSGML v1.0//EN
CALSCALE:GREGORIAN
METHOD:PUBLISH
X-WR-CALNAME:Landesrat.hu
X-ORIGINAL-URL:https://landesrat.hu
X-WR-CALDESC:Events for Landesrat.hu
REFRESH-INTERVAL;VALUE=DURATION:PT1H
X-Robots-Tag:noindex
X-PUBLISHED-TTL:PT1H
BEGIN:VTIMEZONE
TZID:Europe/Budapest
BEGIN:DAYLIGHT
TZOFFSETFROM:+0100
TZOFFSETTO:+0200
TZNAME:CEST
DTSTART:20240331T010000
END:DAYLIGHT
BEGIN:STANDARD
TZOFFSETFROM:+0200
TZOFFSETTO:+0100
TZNAME:CET
DTSTART:20241027T010000
END:STANDARD
END:VTIMEZONE
BEGIN:VEVENT
DTSTART;TZID=Europe/Budapest:20240907T170000
DTEND;TZID=Europe/Budapest:20240907T200000
DTSTAMP:20260426T031759
CREATED:20240502T060805Z
LAST-MODIFIED:20240502T060939Z
UID:14673-1725728400-1725739200@landesrat.hu
SUMMARY:Polkadélután
DESCRIPTION:Fúvószene táncra
URL:https://landesrat.hu/event/polkadelutan-polkanachmittag-4/
LOCATION:Zeneház\, Kossuth Lajos u. 25.\, Sóskút\, Pest\, 2038\, Magyarország
CATEGORIES:Landeskalender,Lokális rendezvény,Tánc szekció,Zenekari szekció
ORGANIZER;CN="Kasz%C3%A1s S%C3%A1ndor":MAILTO:sosfuvoszenekar@gmail.com
GEO:47.4065302;18.8245508
X-APPLE-STRUCTURED-LOCATION;VALUE=URI;X-ADDRESS=Zeneház Kossuth Lajos u. 25. Sóskút Pest 2038 Magyarország;X-APPLE-RADIUS=500;X-TITLE=Kossuth Lajos u. 25.:geo:18.8245508,47.4065302
END:VEVENT
BEGIN:VEVENT
DTSTART;TZID=Europe/Budapest:20240810T170000
DTEND;TZID=Europe/Budapest:20240810T200000
DTSTAMP:20260426T031759
CREATED:20240502T060342Z
LAST-MODIFIED:20240502T060509Z
UID:14669-1723309200-1723320000@landesrat.hu
SUMMARY:Polkadélután
DESCRIPTION:Fúvószene táncra
URL:https://landesrat.hu/event/polkadelutan-polkanachmittag-3/
LOCATION:Zeneház\, Kossuth Lajos u. 25.\, Sóskút\, Pest\, 2038\, Magyarország
CATEGORIES:Landeskalender,Lokális rendezvény,Tánc szekció,Zenekari szekció
ORGANIZER;CN="Kasz%C3%A1s S%C3%A1ndor":MAILTO:sosfuvoszenekar@gmail.com
GEO:47.4065302;18.8245508
X-APPLE-STRUCTURED-LOCATION;VALUE=URI;X-ADDRESS=Zeneház Kossuth Lajos u. 25. Sóskút Pest 2038 Magyarország;X-APPLE-RADIUS=500;X-TITLE=Kossuth Lajos u. 25.:geo:18.8245508,47.4065302
END:VEVENT
BEGIN:VEVENT
DTSTART;TZID=Europe/Budapest:20240713T170000
DTEND;TZID=Europe/Budapest:20240713T200000
DTSTAMP:20260426T031759
CREATED:20240502T055844Z
LAST-MODIFIED:20240502T060611Z
UID:14665-1720890000-1720900800@landesrat.hu
SUMMARY:Polkadélután
DESCRIPTION:Fúvószene táncra
URL:https://landesrat.hu/event/polkadelutan-polkanachmittag-2/
LOCATION:Zeneház\, Kossuth Lajos u. 25.\, Sóskút\, Pest\, 2038\, Magyarország
CATEGORIES:Landeskalender,Lokális rendezvény,Tánc szekció,Zenekari szekció
ORGANIZER;CN="Kasz%C3%A1s S%C3%A1ndor":MAILTO:sosfuvoszenekar@gmail.com
GEO:47.4065302;18.8245508
X-APPLE-STRUCTURED-LOCATION;VALUE=URI;X-ADDRESS=Zeneház Kossuth Lajos u. 25. Sóskút Pest 2038 Magyarország;X-APPLE-RADIUS=500;X-TITLE=Kossuth Lajos u. 25.:geo:18.8245508,47.4065302
END:VEVENT
BEGIN:VEVENT
DTSTART;TZID=Europe/Budapest:20240615T170000
DTEND;TZID=Europe/Budapest:20240615T200000
DTSTAMP:20260426T031759
CREATED:20240502T042803Z
LAST-MODIFIED:20240502T052200Z
UID:14646-1718470800-1718481600@landesrat.hu
SUMMARY:Polkadélután
DESCRIPTION:Fúvószene táncra
URL:https://landesrat.hu/event/polkadelutan-polkanachmittag/
LOCATION:Zeneház\, Kossuth Lajos u. 25.\, Sóskút\, Pest\, 2038\, Magyarország
CATEGORIES:Landeskalender,Lokális rendezvény,Tánc szekció,Zenekari szekció
ORGANIZER;CN="Kasz%C3%A1s S%C3%A1ndor":MAILTO:sosfuvoszenekar@gmail.com
GEO:47.4065302;18.8245508
X-APPLE-STRUCTURED-LOCATION;VALUE=URI;X-ADDRESS=Zeneház Kossuth Lajos u. 25. Sóskút Pest 2038 Magyarország;X-APPLE-RADIUS=500;X-TITLE=Kossuth Lajos u. 25.:geo:18.8245508,47.4065302
END:VEVENT
BEGIN:VEVENT
DTSTART;TZID=Europe/Budapest:20240517T180000
DTEND;TZID=Europe/Budapest:20240517T180000
DTSTAMP:20260426T031800
CREATED:20240425T161334Z
LAST-MODIFIED:20240502T052043Z
UID:14626-1715968800-1715968800@landesrat.hu
SUMMARY:Mus-I-Zua IV. / A sváb zenészek találkozója
DESCRIPTION:Ez egy kötetlen\, baráti\, ám de szakmaisággal fűszerezett zenésztalálkozó-sorozat a sváb zenei műfaj művelői részére. \nEz év utolsó előtti Mus-I-Zua alkalma.\nA szakmai előadás témája: A magyarországi német fúvószene stílusjegyei\nElőadó: Kaszás Sándor\nAz előadás témáját a gyakorlatba is át fogjuk ültetni Sanyi segítségével (kottákat és állványokat biztosít ehhez).\nVacsora: üstben készített vörösboros-gombás-zöldséges vadragu\nParkolás: 11 hely az udvarban és további helyek a szomszédos Gárdonyi utcában (orvosi rendelő\, sportpálya)\nUtazás: szervezkedjetek!\nÖnkéntes hozzájárulás a rendezvény költségeihez 1000 Ft/fő
URL:https://landesrat.hu/event/mus-i-zua-iv-a-svab-zeneszek-talalkozoja/
LOCATION:Zeneház\, Kossuth Lajos u. 25.\, Sóskút\, Pest\, 2038\, Magyarország
CATEGORIES:Ének szekció,Ifjúsági szekció,Landeskalender,Lokális rendezvény,Tánc szekció,Zenekari szekció
ATTACH;FMTTYPE=image/jpeg:https://landesrat.hu/wp-content/uploads/2024/04/Mus-I-Zua-Soskut.jpg
ORGANIZER;CN="Mohl Ferenc":MAILTO:ferenc.mohl@gmail.com
GEO:47.4065302;18.8245508
X-APPLE-STRUCTURED-LOCATION;VALUE=URI;X-ADDRESS=Zeneház Kossuth Lajos u. 25. Sóskút Pest 2038 Magyarország;X-APPLE-RADIUS=500;X-TITLE=Kossuth Lajos u. 25.:geo:18.8245508,47.4065302
END:VEVENT
END:VCALENDAR