BEGIN:VCALENDAR
VERSION:2.0
PRODID:-//Landesrat.hu - ECPv6.3.2//NONSGML v1.0//EN
CALSCALE:GREGORIAN
METHOD:PUBLISH
X-ORIGINAL-URL:https://landesrat.hu
X-WR-CALDESC:Events for Landesrat.hu
REFRESH-INTERVAL;VALUE=DURATION:PT1H
X-Robots-Tag:noindex
X-PUBLISHED-TTL:PT1H
BEGIN:VTIMEZONE
TZID:Europe/Budapest
BEGIN:DAYLIGHT
TZOFFSETFROM:+0100
TZOFFSETTO:+0200
TZNAME:CEST
DTSTART:20270328T010000
END:DAYLIGHT
BEGIN:STANDARD
TZOFFSETFROM:+0200
TZOFFSETTO:+0100
TZNAME:CET
DTSTART:20271031T010000
END:STANDARD
END:VTIMEZONE
BEGIN:VEVENT
DTSTART;TZID=Europe/Budapest:20270604T090000
DTEND;TZID=Europe/Budapest:20270606T170000
DTSTAMP:20260425T234814
CREATED:20250104T100105Z
LAST-MODIFIED:20250104T100328Z
UID:17082-1812099600-1812301200@landesrat.hu
SUMMARY:XXIII. Régi hangszeres zenészek országos találkozója
DESCRIPTION:Régi hangszeres zenészek XXIII. országos találkozója a hazai németség jellegzetes hangszereit megszólaltató zenészek tudásának megismeréséért és megőrzéséért.
URL:https://landesrat.hu/event/regi-hangszeres-zeneszek-xx-orszagos-talalkozoja-2-2-2/
LOCATION:Klebelsberg Kultúrkúria – (Solymár)\, Templom u. 2.\, Budapest\, Pest\, 1028\, Magyarország
CATEGORIES:Landeskalender,Landesrat,Zenekari szekció
ATTACH;FMTTYPE=image/jpeg:https://landesrat.hu/wp-content/uploads/2025/01/LAM24-26.jpg
ORGANIZER;CN="Landesrat":MAILTO:landesrat@landesrat.hu
GEO:47.5892196;18.9296062
X-APPLE-STRUCTURED-LOCATION;VALUE=URI;X-ADDRESS=Klebelsberg Kultúrkúria – (Solymár) Templom u. 2. Budapest Pest 1028 Magyarország;X-APPLE-RADIUS=500;X-TITLE=Templom u. 2.:geo:18.9296062,47.5892196
END:VEVENT
END:VCALENDAR