BEGIN:VCALENDAR
VERSION:2.0
PRODID:-//Landesrat.hu - ECPv6.3.2//NONSGML v1.0//EN
CALSCALE:GREGORIAN
METHOD:PUBLISH
X-WR-CALNAME:Landesrat.hu
X-ORIGINAL-URL:https://landesrat.hu
X-WR-CALDESC:Events for Landesrat.hu
REFRESH-INTERVAL;VALUE=DURATION:PT1H
X-Robots-Tag:noindex
X-PUBLISHED-TTL:PT1H
BEGIN:VTIMEZONE
TZID:Europe/Budapest
BEGIN:DAYLIGHT
TZOFFSETFROM:+0100
TZOFFSETTO:+0200
TZNAME:CEST
DTSTART:20260329T010000
END:DAYLIGHT
BEGIN:STANDARD
TZOFFSETFROM:+0200
TZOFFSETTO:+0100
TZNAME:CET
DTSTART:20261025T010000
END:STANDARD
END:VTIMEZONE
BEGIN:VEVENT
DTSTART;TZID=Europe/Budapest:20260314T090000
DTEND;TZID=Europe/Budapest:20260314T180000
DTSTAMP:20260426T012744
CREATED:20250104T050458Z
LAST-MODIFIED:20260213T121108Z
UID:17016-1773478800-1773511200@landesrat.hu
SUMMARY:II. Országos szakmai nap kórusvezetőknek és kántoroknak
DESCRIPTION:Az ének és az egyházzenei szekció szakmai rendezvénye a kórusvezetők és kántorok készségeinek fejlesztéséért\, a német népi és egyházi énekek megismeréséért\, magas színvonalú előadásának és értékvesztés nélküli átörökítésének szakmai segítéséért. \nFelhívás\nJelentkezés a rendezvényre\nÉrtékelő kérdőív
URL:https://landesrat.hu/event/orszagos-szakmai-nap-kantoroknak-2-2/
LOCATION:Mözsi Művelődési Ház\, Iskola utca 19.\, Mözs\, 7131
CATEGORIES:Egyházzene szekció,Egyházzene szekció képzés,Ének szekció,Ének szekció képzés,Landeskalender,Landesrat
ATTACH;FMTTYPE=image/jpeg:https://landesrat.hu/wp-content/uploads/2025/01/LKAN24-15.jpg
ORGANIZER;CN="Landesrat":MAILTO:landesrat@landesrat.hu
GEO:46.4114605;18.7351163
X-APPLE-STRUCTURED-LOCATION;VALUE=URI;X-ADDRESS=Mözsi Művelődési Ház Iskola utca 19. Mözs 7131;X-APPLE-RADIUS=500;X-TITLE=Iskola utca 19.:geo:18.7351163,46.4114605
END:VEVENT
END:VCALENDAR