BEGIN:VCALENDAR
VERSION:2.0
PRODID:-//Landesrat.hu - ECPv6.3.2//NONSGML v1.0//EN
CALSCALE:GREGORIAN
METHOD:PUBLISH
X-ORIGINAL-URL:https://landesrat.hu
X-WR-CALDESC:Events for Landesrat.hu
REFRESH-INTERVAL;VALUE=DURATION:PT1H
X-Robots-Tag:noindex
X-PUBLISHED-TTL:PT1H
BEGIN:VTIMEZONE
TZID:Europe/Budapest
BEGIN:DAYLIGHT
TZOFFSETFROM:+0100
TZOFFSETTO:+0200
TZNAME:CEST
DTSTART:20210328T010000
END:DAYLIGHT
BEGIN:STANDARD
TZOFFSETFROM:+0200
TZOFFSETTO:+0100
TZNAME:CET
DTSTART:20211031T010000
END:STANDARD
END:VTIMEZONE
BEGIN:VEVENT
DTSTART;VALUE=DATE:20211113
DTEND;VALUE=DATE:20211114
DTSTAMP:20260426T014930
CREATED:20210127T222445Z
LAST-MODIFIED:20210412T104408Z
UID:761-1636761600-1636847999@landesrat.hu
SUMMARY:„Familienmusik“ Családi zenekarok XII. országos találkozója
DESCRIPTION:Családi zenekarok XII. országos találkozója a családokban még fellelhető autentikus zenei tudás közös zenéléssel való elmélyítéséért\, a családok összetartó erejének megéléséért.
URL:https://landesrat.hu/event/familienmusik-csaladi-zenekarok-xii-orszagos-talalkozoja/
LOCATION:Kossuth Lajos Művelődési Ház\, Hősök tere 3.\, Csolnok\, Komáron-Esztergom\, 2521\, Magyarország
CATEGORIES:Landeskalender,Landesrat,Zenekari szekció
ATTACH;FMTTYPE=image/jpeg:https://landesrat.hu/wp-content/uploads/2021/01/csaladi.jpg
ORGANIZER;CN="Landesrat":MAILTO:landesrat@landesrat.hu
GEO:47.6909791;18.7179644
X-APPLE-STRUCTURED-LOCATION;VALUE=URI;X-ADDRESS=Kossuth Lajos Művelődési Ház Hősök tere 3. Csolnok Komáron-Esztergom 2521 Magyarország;X-APPLE-RADIUS=500;X-TITLE=Hősök tere 3.:geo:18.7179644,47.6909791
END:VEVENT
END:VCALENDAR