BEGIN:VCALENDAR
VERSION:2.0
PRODID:-//Landesrat.hu - ECPv6.3.2//NONSGML v1.0//EN
CALSCALE:GREGORIAN
METHOD:PUBLISH
X-ORIGINAL-URL:https://landesrat.hu
X-WR-CALDESC:Events for Landesrat.hu
REFRESH-INTERVAL;VALUE=DURATION:PT1H
X-Robots-Tag:noindex
X-PUBLISHED-TTL:PT1H
BEGIN:VTIMEZONE
TZID:Europe/Budapest
BEGIN:DAYLIGHT
TZOFFSETFROM:+0100
TZOFFSETTO:+0200
TZNAME:CEST
DTSTART:20220327T010000
END:DAYLIGHT
BEGIN:STANDARD
TZOFFSETFROM:+0200
TZOFFSETTO:+0100
TZNAME:CET
DTSTART:20221030T010000
END:STANDARD
END:VTIMEZONE
BEGIN:VEVENT
DTSTART;VALUE=DATE:20220520
DTEND;VALUE=DATE:20220523
DTSTAMP:20260426T013302
CREATED:20210127T222409Z
LAST-MODIFIED:20220305T224509Z
UID:758-1653004800-1653263999@landesrat.hu
SUMMARY:Régi hangszeres zenészek XVIII. országos találkozója
DESCRIPTION:Régi hangszeres zenészek XVIII. országos találkozója a hazai németség jellegzetes hangszereit megszólaltató zenészek tudásának megismeréséért és megőrzéséért.
URL:https://landesrat.hu/event/regi-hangszeres-zeneszek-xviii-orszagos-talalkozoja/
LOCATION:Komló\, 48-as tér. 1.\, Komló\, Baranya\, 7300\, Magyarország
CATEGORIES:Landeskalender,Landesrat,Zenekari szekció
ATTACH;FMTTYPE=image/jpeg:https://landesrat.hu/wp-content/uploads/2021/01/citera.jpg
ORGANIZER;CN="Landesrat":MAILTO:landesrat@landesrat.hu
GEO:46.189744;18.269558
X-APPLE-STRUCTURED-LOCATION;VALUE=URI;X-ADDRESS=Komló 48-as tér. 1. Komló Baranya 7300 Magyarország;X-APPLE-RADIUS=500;X-TITLE=48-as tér. 1.:geo:18.269558,46.189744
END:VEVENT
END:VCALENDAR