BEGIN:VCALENDAR
VERSION:2.0
PRODID:-//Landesrat.hu - ECPv6.3.2//NONSGML v1.0//EN
CALSCALE:GREGORIAN
METHOD:PUBLISH
X-ORIGINAL-URL:https://landesrat.hu
X-WR-CALDESC:Events for Landesrat.hu
REFRESH-INTERVAL;VALUE=DURATION:PT1H
X-Robots-Tag:noindex
X-PUBLISHED-TTL:PT1H
BEGIN:VTIMEZONE
TZID:Europe/Budapest
BEGIN:DAYLIGHT
TZOFFSETFROM:+0100
TZOFFSETTO:+0200
TZNAME:CEST
DTSTART:20240331T010000
END:DAYLIGHT
BEGIN:STANDARD
TZOFFSETFROM:+0200
TZOFFSETTO:+0100
TZNAME:CET
DTSTART:20241027T010000
END:STANDARD
END:VTIMEZONE
BEGIN:VEVENT
DTSTART;TZID=Europe/Budapest:20240524T160000
DTEND;TZID=Europe/Budapest:20240526T140000
DTSTAMP:20260426T061642
CREATED:20220124T094905Z
LAST-MODIFIED:20240526T211815Z
UID:7426-1716566400-1716732000@landesrat.hu
SUMMARY:XX. Régi hangszeres zenészek országos találkozója
DESCRIPTION:Régi hangszeres zenészek XX. országos találkozója a hazai németség jellegzetes hangszereit megszólaltató zenészek tudásának megismeréséért és megőrzéséért.\nGálaprogram: május 25-én\, szombaton 16 órakor\nHelyszín: Művelődési Ház\, Dunaszekcső\, Kossuth Lajos u.33. \nElégedettségi kérdőív\n 
URL:https://landesrat.hu/event/regi-hangszeres-zeneszek-xx-orszagos-talalkozoja/
LOCATION:Művelődési Ház Dunaszekcső\, Kossuth L. u. 33.\, Dunaszekcső\, 7712\, Magyarország
CATEGORIES:Landeskalender,Landesrat,Zenekari szekció
ATTACH;FMTTYPE=image/jpeg:https://landesrat.hu/wp-content/uploads/2022/01/Event-Cover-Regi-hangszeres-2024.jpg
GEO:47.162494;19.5033041
X-APPLE-STRUCTURED-LOCATION;VALUE=URI;X-ADDRESS=Művelődési Ház Dunaszekcső Kossuth L. u. 33. Dunaszekcső 7712 Magyarország;X-APPLE-RADIUS=500;X-TITLE=Kossuth L. u. 33.:geo:19.5033041,47.162494
END:VEVENT
END:VCALENDAR