BEGIN:VCALENDAR
VERSION:2.0
PRODID:-//Landesrat.hu - ECPv6.3.2//NONSGML v1.0//EN
CALSCALE:GREGORIAN
METHOD:PUBLISH
X-WR-CALNAME:Landesrat.hu
X-ORIGINAL-URL:https://landesrat.hu
X-WR-CALDESC:Events for Landesrat.hu
REFRESH-INTERVAL;VALUE=DURATION:PT1H
X-Robots-Tag:noindex
X-PUBLISHED-TTL:PT1H
BEGIN:VTIMEZONE
TZID:Europe/Budapest
BEGIN:DAYLIGHT
TZOFFSETFROM:+0100
TZOFFSETTO:+0200
TZNAME:CEST
DTSTART:20220327T010000
END:DAYLIGHT
BEGIN:STANDARD
TZOFFSETFROM:+0200
TZOFFSETTO:+0100
TZNAME:CET
DTSTART:20221030T010000
END:STANDARD
END:VTIMEZONE
BEGIN:VEVENT
DTSTART;VALUE=DATE:20220626
DTEND;VALUE=DATE:20220704
DTSTAMP:20260426T032041
CREATED:20210411T204555Z
LAST-MODIFIED:20220615T090152Z
UID:2862-1656201600-1656892799@landesrat.hu
SUMMARY:XIII. Harmonikawoche
DESCRIPTION:A harmonika szekció szervezésében egy hetes szakmai hét keretében sajátíthatják el a fiatal harmonikások az autentikus hazai sváb dallamokat. A tábor célja egyúttal a felnövekvő muzsikus generáció zenei ízlésének formálása. \nJelentkezés a rendezvényre
URL:https://landesrat.hu/event/musikwoche-harmonika-tabor-es-szakmai-het/
LOCATION:Dunabogdányi Művelődési Ház és Könyvtár\, Kossuth Lajos út 93.\, Dunabogdány\, Pest\, 2023\, Magyarország
CATEGORIES:Landeskalender,Landesrat,Zenekari szekció,Zenekari szekció képzés
ATTACH;FMTTYPE=image/jpeg:https://landesrat.hu/wp-content/uploads/2021/04/Rendezveny-Harmonikawoche-scaled.jpeg
ORGANIZER;CN="Landesrat":MAILTO:landesrat@landesrat.hu
GEO:47.795498;19.0328449
X-APPLE-STRUCTURED-LOCATION;VALUE=URI;X-ADDRESS=Dunabogdányi Művelődési Ház és Könyvtár Kossuth Lajos út 93. Dunabogdány Pest 2023 Magyarország;X-APPLE-RADIUS=500;X-TITLE=Kossuth Lajos út 93.:geo:19.0328449,47.795498
END:VEVENT
END:VCALENDAR