BEGIN:VCALENDAR
VERSION:2.0
PRODID:-//Landesrat.hu - ECPv6.3.2//NONSGML v1.0//EN
CALSCALE:GREGORIAN
METHOD:PUBLISH
X-ORIGINAL-URL:https://landesrat.hu
X-WR-CALDESC:Events for Landesrat.hu
REFRESH-INTERVAL;VALUE=DURATION:PT1H
X-Robots-Tag:noindex
X-PUBLISHED-TTL:PT1H
BEGIN:VTIMEZONE
TZID:Europe/Budapest
BEGIN:DAYLIGHT
TZOFFSETFROM:+0100
TZOFFSETTO:+0200
TZNAME:CEST
DTSTART:20260329T010000
END:DAYLIGHT
BEGIN:STANDARD
TZOFFSETFROM:+0200
TZOFFSETTO:+0100
TZNAME:CET
DTSTART:20261025T010000
END:STANDARD
END:VTIMEZONE
BEGIN:VEVENT
DTSTART;TZID=Europe/Budapest:20261010T090000
DTEND;TZID=Europe/Budapest:20261010T170000
DTSTAMP:20260426T060507
CREATED:20250104T175628Z
LAST-MODIFIED:20260227T062849Z
UID:17112-1791622800-1791651600@landesrat.hu
SUMMARY:Familienmusik - Családi zenekarok XVII. országos találkozója
DESCRIPTION:Családi zenekarok XVII. országos találkozója a családokban még fellelhető autentikus zenei tudás közös zenéléssel való elmélyítéséért\, a családok összetartó erejének megéléséért. \nFelhívás\nJelentkezés a rendezvényre\nÉrtékelő kérdőív
URL:https://landesrat.hu/event/familienmusik-csaladi-zenekarok-xv-orszagos-talalkozoja-3/
LOCATION:Mecseknádasd\, Liszt Ferenc u. 75/3.\, Mecseknádasd\, Baranya\, 7695
CATEGORIES:Landeskalender,Landesrat,Zenekari szekció
ATTACH;FMTTYPE=image/jpeg:https://landesrat.hu/wp-content/uploads/2024/10/25-1-scaled.jpg
ORGANIZER;CN="Landesrat":MAILTO:landesrat@landesrat.hu
GEO:46.22466;18.4653855
X-APPLE-STRUCTURED-LOCATION;VALUE=URI;X-ADDRESS=Mecseknádasd Liszt Ferenc u. 75/3. Mecseknádasd Baranya 7695;X-APPLE-RADIUS=500;X-TITLE=Liszt Ferenc u. 75/3.:geo:18.4653855,46.22466
END:VEVENT
BEGIN:VEVENT
DTSTART;TZID=Europe/Budapest:20261018T090000
DTEND;TZID=Europe/Budapest:20261018T170000
DTSTAMP:20260426T060507
CREATED:20250104T181558Z
LAST-MODIFIED:20260213T131201Z
UID:17122-1792314000-1792342800@landesrat.hu
SUMMARY:X. Sváb Zenekarok Országos Találkozója
DESCRIPTION:A Magyarországi német hagyományőrző sváb zenekarok X. országos találkozójának célja\, hogy a főként rendezvényeken fellépő\, a közönséggel itt találkozó sváb kiszenekarok más fórumon is lehetőséget kapjanak a bemutatkozásra. \nFelhívás\nJelentkezés a rendezvényre\nÉrtékelő kérdőív
URL:https://landesrat.hu/event/x-magyarorszagi-nemet-kisszenekarok-orszagos-talalkozoja-2/
LOCATION:Művelődési Ház Babarc\, Ady E u. 12.\, Babarc\, Baranya\, 7757\, Magyarország
CATEGORIES:Landeskalender,Landesrat,Zenekari szekció
ATTACH;FMTTYPE=image/jpeg:https://landesrat.hu/wp-content/uploads/2024/10/LKIS24-57.jpg
ORGANIZER;CN="Landesrat":MAILTO:landesrat@landesrat.hu
GEO:46.0042229;18.5527511
X-APPLE-STRUCTURED-LOCATION;VALUE=URI;X-ADDRESS=Művelődési Ház Babarc Ady E u. 12. Babarc Baranya 7757 Magyarország;X-APPLE-RADIUS=500;X-TITLE=Ady E u. 12.:geo:18.5527511,46.0042229
END:VEVENT
END:VCALENDAR