BEGIN:VCALENDAR
VERSION:2.0
PRODID:-//Landesrat.hu - ECPv6.3.2//NONSGML v1.0//EN
CALSCALE:GREGORIAN
METHOD:PUBLISH
X-WR-CALNAME:Landesrat.hu
X-ORIGINAL-URL:https://landesrat.hu
X-WR-CALDESC:Events for Landesrat.hu
REFRESH-INTERVAL;VALUE=DURATION:PT1H
X-Robots-Tag:noindex
X-PUBLISHED-TTL:PT1H
BEGIN:VTIMEZONE
TZID:Europe/Budapest
BEGIN:DAYLIGHT
TZOFFSETFROM:+0100
TZOFFSETTO:+0200
TZNAME:CEST
DTSTART:20260329T010000
END:DAYLIGHT
BEGIN:STANDARD
TZOFFSETFROM:+0200
TZOFFSETTO:+0100
TZNAME:CET
DTSTART:20261025T010000
END:STANDARD
END:VTIMEZONE
BEGIN:VEVENT
DTSTART;TZID=Europe/Budapest:20260727T090000
DTEND;TZID=Europe/Budapest:20260802T170000
DTSTAMP:20260426T025801
CREATED:20250104T105157Z
LAST-MODIFIED:20260213T124650Z
UID:17102-1785142800-1785690000@landesrat.hu
SUMMARY:XIII. JAO - Musikwoche\, fúvószenekari szakmai hét
DESCRIPTION:A Magyarországi Német Ifjúsági Válogatott Fúvószenekar (JAO=Jugendauswahlorchester) XIII. szakmai hete\, vagyis fúvószenekari tábora a hazai német ifjúsági zenészgeneráció kinevelésére\, továbbképzésére. \nFelhívás\nJelentkezés a rendezvényre\nÉrtékelő kérdőív\n  \n 
URL:https://landesrat.hu/event/x-jao-musikwoche-2-2/
LOCATION:Mecseknádasd\, Liszt Ferenc u. 75/3.\, Mecseknádasd\, Baranya\, 7695
CATEGORIES:Landeskalender,Landesrat,Zenekari szekció
ATTACH;FMTTYPE=image/jpeg:https://landesrat.hu/wp-content/uploads/2024/11/LJB24-34.jpg
ORGANIZER;CN="Landesrat":MAILTO:landesrat@landesrat.hu
GEO:46.22466;18.4653855
X-APPLE-STRUCTURED-LOCATION;VALUE=URI;X-ADDRESS=Mecseknádasd Liszt Ferenc u. 75/3. Mecseknádasd Baranya 7695;X-APPLE-RADIUS=500;X-TITLE=Liszt Ferenc u. 75/3.:geo:18.4653855,46.22466
END:VEVENT
BEGIN:VEVENT
DTSTART;TZID=Europe/Budapest:20260811T090000
DTEND;TZID=Europe/Budapest:20260816T170000
DTSTAMP:20260426T025801
CREATED:20250104T104338Z
LAST-MODIFIED:20260227T064154Z
UID:17099-1786438800-1786899600@landesrat.hu
SUMMARY:XI. Volkstanzwoche
DESCRIPTION:XI. Országos német néptáncosok\, hagyományőrző\, identitást erősítő találkozója és szakmai hete\, a tánccsoportok szakmai fejlődése és a kapcsolatápolás jegyében. \nFelhívás \nJelentkezés a rendezvényre \nÉrtékelő kérdőív
URL:https://landesrat.hu/event/ix-volkstanzwoche-2-2/
LOCATION:Bohyhád\, Bonyhád\, Baranya\, 7150\, Magyarország
CATEGORIES:Landeskalender,Landesrat,Tánc szekció,Tánc szekció képzés
ATTACH;FMTTYPE=image/jpeg:https://landesrat.hu/wp-content/uploads/2023/01/001-Budapest-Tanzfest.jpeg
ORGANIZER;CN="Landesrat":MAILTO:landesrat@landesrat.hu
GEO:46.3315858;18.5312289
END:VEVENT
BEGIN:VEVENT
DTSTART;TZID=Europe/Budapest:20260829T090000
DTEND;TZID=Europe/Budapest:20260829T170000
DTSTAMP:20260426T025801
CREATED:20250104T173938Z
LAST-MODIFIED:20260213T130816Z
UID:17108-1787994000-1788022800@landesrat.hu
SUMMARY:II. Magyarországi német ifjúsági sváb bál
DESCRIPTION:Sváb fiatalok II svábbállal egybekötött országos közösség és identitást erősítő kulturális találkozója. \nFelhívás \nJelentkezés a rendezvényre \nÉrtékelő kérdőív
URL:https://landesrat.hu/event/i-magyarorszagi-nemet-ifjusagi-svab-bal-2/
LOCATION:Magyarpolányi Tájház És Falumúzeum/Zöld Élet Háza/Köztér\, Petőfi\, Magyarpolány\, Veszprém\, 8449\, Magyarország
CATEGORIES:Ifjúsági szekció,Landeskalender,Landesrat
ATTACH;FMTTYPE=image/jpeg:https://landesrat.hu/wp-content/uploads/2024/09/LJUG24-103.jpg
ORGANIZER;CN="Landesrat":MAILTO:landesrat@landesrat.hu
GEO:47.1902752;17.5497959
X-APPLE-STRUCTURED-LOCATION;VALUE=URI;X-ADDRESS=Magyarpolányi Tájház És Falumúzeum/Zöld Élet Háza/Köztér Petőfi Magyarpolány Veszprém 8449 Magyarország;X-APPLE-RADIUS=500;X-TITLE=Petőfi:geo:17.5497959,47.1902752
END:VEVENT
END:VCALENDAR