BEGIN:VCALENDAR
VERSION:2.0
PRODID:-//Landesrat.hu - ECPv6.3.2//NONSGML v1.0//EN
CALSCALE:GREGORIAN
METHOD:PUBLISH
X-WR-CALNAME:Landesrat.hu
X-ORIGINAL-URL:https://landesrat.hu
X-WR-CALDESC:Events for Landesrat.hu
REFRESH-INTERVAL;VALUE=DURATION:PT1H
X-Robots-Tag:noindex
X-PUBLISHED-TTL:PT1H
BEGIN:VTIMEZONE
TZID:Europe/Budapest
BEGIN:DAYLIGHT
TZOFFSETFROM:+0100
TZOFFSETTO:+0200
TZNAME:CEST
DTSTART:20260329T010000
END:DAYLIGHT
BEGIN:STANDARD
TZOFFSETFROM:+0200
TZOFFSETTO:+0100
TZNAME:CET
DTSTART:20261025T010000
END:STANDARD
END:VTIMEZONE
BEGIN:VEVENT
DTSTART;TZID=Europe/Budapest:20260515T090000
DTEND;TZID=Europe/Budapest:20260517T170000
DTSTAMP:20260425T182710
CREATED:20250104T094800Z
LAST-MODIFIED:20260213T123331Z
UID:17077-1778835600-1779037200@landesrat.hu
SUMMARY:XXII. Régi hangszeres zenészek országos találkozója
DESCRIPTION:Régi hangszeres zenészek XXII. országos találkozója a hazai németség jellegzetes hangszereit megszólaltató zenészek tudásának megismeréséért és megőrzéséért. \nFelhívás\nJelentkezés a rendezvényre\nÉrtékelő kérdőív
URL:https://landesrat.hu/event/regi-hangszeres-zeneszek-xx-orszagos-talalkozoja-2-2/
LOCATION:Szálka\, Szálka\, Tolna\, 7121\, Magyarország
CATEGORIES:Landeskalender,Landesrat,Zenekari szekció
ATTACH;FMTTYPE=image/jpeg:https://landesrat.hu/wp-content/uploads/2024/06/LAM24-48.jpg
ORGANIZER;CN="Landesrat":MAILTO:landesrat@landesrat.hu
GEO:46.2888913;18.6378262
END:VEVENT
BEGIN:VEVENT
DTSTART;TZID=Europe/Budapest:20260530T090000
DTEND;TZID=Europe/Budapest:20260530T170000
DTSTAMP:20260425T182710
CREATED:20250104T061953Z
LAST-MODIFIED:20260213T132346Z
UID:17057-1780131600-1780160400@landesrat.hu
SUMMARY:XII. Országos Német Nemzetiségi Gyermektánc Fesztivál
DESCRIPTION:Magyarországi német nemzetiségi gyermek néptánc fesztivál a néptánc minősítő versenyeken elért arany fokozattal rendelkező gyermek tánccsoportok részvételével. \nFelhívás Jelentkezés a rendezvényre Értékelő kérdőív
URL:https://landesrat.hu/event/xi-orszagos-gyermek-nemet-neptancfesztival-3/
LOCATION:Művészetek Háza Pilisvörösvár\, Fő u. 127.\, Pilisvörösvár\, Pest\, 2085\, Magyarország
CATEGORIES:Landeskalender,Landesrat,Tánc szekció
ATTACH;FMTTYPE=image/jpeg:https://landesrat.hu/wp-content/uploads/2025/01/LKT23-20.jpg
ORGANIZER;CN="Landesrat":MAILTO:landesrat@landesrat.hu
GEO:47.632173;18.8984924
X-APPLE-STRUCTURED-LOCATION;VALUE=URI;X-ADDRESS=Művészetek Háza Pilisvörösvár Fő u. 127. Pilisvörösvár Pest 2085 Magyarország;X-APPLE-RADIUS=500;X-TITLE=Fő u. 127.:geo:18.8984924,47.632173
END:VEVENT
END:VCALENDAR