BEGIN:VCALENDAR
VERSION:2.0
PRODID:-//Landesrat.hu - ECPv6.3.2//NONSGML v1.0//EN
CALSCALE:GREGORIAN
METHOD:PUBLISH
X-ORIGINAL-URL:https://landesrat.hu
X-WR-CALDESC:Events for Landesrat.hu
REFRESH-INTERVAL;VALUE=DURATION:PT1H
X-Robots-Tag:noindex
X-PUBLISHED-TTL:PT1H
BEGIN:VTIMEZONE
TZID:Europe/Budapest
BEGIN:DAYLIGHT
TZOFFSETFROM:+0100
TZOFFSETTO:+0200
TZNAME:CEST
DTSTART:20250330T010000
END:DAYLIGHT
BEGIN:STANDARD
TZOFFSETFROM:+0200
TZOFFSETTO:+0100
TZNAME:CET
DTSTART:20251026T010000
END:STANDARD
END:VTIMEZONE
BEGIN:VEVENT
DTSTART;TZID=Europe/Budapest:20251108T100000
DTEND;TZID=Europe/Budapest:20251108T170000
DTSTAMP:20260426T041332
CREATED:20240101T223018Z
LAST-MODIFIED:20251001T142418Z
UID:13393-1762596000-1762621200@landesrat.hu
SUMMARY:II. Országos szakmai nap kórusvezetőknek és kántoroknak
DESCRIPTION:Az ének és az egyházzenei szekció szakmai rendezvénye a kórusvezetők és kántorok készségeinek fejlesztéséért\, a német népi és egyházi énekek megismeréséért\, magas színvonalú előadásának és értékvesztés nélküli átörökítésének szakmai segítéséért. \nJelentkezés\nKérdőív kitöltése
URL:https://landesrat.hu/event/orszagos-szakmai-nap-kantoroknak-2/
LOCATION:Deutsches Haus / Német Ház\, Thököly u. 11.\, Veszprém\, Veszprém\, 8200\, Magyarország
CATEGORIES:Egyházzene szekció,Egyházzene szekció képzés,Landeskalender,Landesrat
ATTACH;FMTTYPE=image/jpeg:https://landesrat.hu/wp-content/uploads/2024/01/DSC_4303-scaled.jpg
ORGANIZER;CN="Landesrat":MAILTO:landesrat@landesrat.hu
GEO:47.1139486;17.9025358
X-APPLE-STRUCTURED-LOCATION;VALUE=URI;X-ADDRESS=Deutsches Haus / Német Ház Thököly u. 11. Veszprém Veszprém 8200 Magyarország;X-APPLE-RADIUS=500;X-TITLE=Thököly u. 11.:geo:17.9025358,47.1139486
END:VEVENT
BEGIN:VEVENT
DTSTART;TZID=Europe/Budapest:20251115T150000
DTEND;TZID=Europe/Budapest:20251115T200000
DTSTAMP:20260426T041332
CREATED:20240101T232818Z
LAST-MODIFIED:20251106T212701Z
UID:13425-1763218800-1763236800@landesrat.hu
SUMMARY:XI. Országos Német Nemzetiségi Néptánc Fesztivál
DESCRIPTION:Az idei év egyik kiemelt rendezvénye\, a táncszekció szervezésében november 15-én\, 15 órakor Szekszárdon megrendezésre kerülő Országos Német Nemzetiségi Néptánc Fesztivál. Az eseményre a minősítőkön legjobb eredményt elért német nemzetiségi néptánccsoportok nyernek meghívást.\nA Landesrat vallja\, hogy a folyamatos fejlődés a minőség és a színvonal megőrzésének záloga. Ennek jegyében dolgozta ki évekkel ezelőtt a szervezet minősítő rendszerét és rendezi meg az országos néptáncfesztivált.\nA táncszekció elkötelezetten támogatja szakmailag a tánccsoportokat\, képzésekkel és a minősítőkön való részvétel lehetőségével. A résztvevőknek a táncvilág neves szakértői adnak hiteles szakmai visszajelzést a csoportok tánctudásáról\, előadásmódjukról\, a zenei kíséretről és az autentikus népviseletről. A minősítők tükörként jelzik vissza a pillanatnyi néptánc tudást és egyúttal az utat is kijelölik\, hogy mely területeken érdemes továbbfejleszteni a táncosok készségeit. \nA néptáncgálára 7 kiváló tánccsoport fogadta el a meghívást. Műsorszámaik hitelesen tükrözik azt az igényes hozzáállást\, ahogyan a csoportok őseink néptánc koreográfiáit\, szokásait színpadra állítják és ezzel biztosítják fennmaradásukat az utókor számára. A koreográfusok gyűjtőmunkája\, szakmai felkészültsége\, a táncosok elkötelezettsége és közösségük megtartó ereje példaértékű. \nA 15 órakor kezdődő gálaműsor fellépői:\nVéméndi Német Nemzetiségi Tánccsoport\nMecseknádasdi Német Nemzetiségi Néptánccsoport\nNemesnádudvari Német Nemzetiségi Hagyományőrző Tánccsoportot\nSaarer Tanzgruppe\nSaarer Tanzgruppe (szóló kategória)\nPusztavámi Német Nemzetiségi Tánccsoport\nNémetkéri Német Nemzetiségi Tánccsoport \nSzeretettel várunk minden kedves érdeklődőt erre a felemelő rendezvényre! \nKérdőív kitöltése\n 
URL:https://landesrat.hu/event/xi-orszagos-gyermek-nemet-neptancfesztival-2/
LOCATION:Babits Mihály Kulturális Központ\, Szent István tér 10.\, Szekszárd\, 7100\, Magyarország
CATEGORIES:Landeskalender,Landesrat,Tánc szekció
ATTACH;FMTTYPE=image/jpeg:https://landesrat.hu/wp-content/uploads/2023/09/LJUG23-12.jpg
ORGANIZER;CN="Landesrat":MAILTO:landesrat@landesrat.hu
GEO:46.3493124;18.7055776
X-APPLE-STRUCTURED-LOCATION;VALUE=URI;X-ADDRESS=Babits Mihály Kulturális Központ Szent István tér 10. Szekszárd 7100 Magyarország;X-APPLE-RADIUS=500;X-TITLE=Szent István tér 10.:geo:18.7055776,46.3493124
END:VEVENT
BEGIN:VEVENT
DTSTART;TZID=Europe/Budapest:20251122T160000
DTEND;TZID=Europe/Budapest:20251122T190000
DTSTAMP:20260426T041332
CREATED:20240101T232207Z
LAST-MODIFIED:20250928T211516Z
UID:13442-1763827200-1763838000@landesrat.hu
SUMMARY:Familienmusik - Családi zenekarok XVI. országos találkozója
DESCRIPTION:Családi zenekarok XVI. országos találkozója a családokban még fellelhető autentikus zenei tudás közös zenéléssel való elmélyítéséért\, a családok összetartó erejének megéléséért. \nJelentkezés\nKérdőív kitöltése
URL:https://landesrat.hu/event/familienmusik-csaladi-zenekarok-xv-orszagos-talalkozoja-2/
LOCATION:Kossuth Lajos Művelődési Ház\, Templom tér 4.\, Városlőd\, 8445
CATEGORIES:Landeskalender,Landesrat,Zenekari szekció
ATTACH;FMTTYPE=image/jpeg:https://landesrat.hu/wp-content/uploads/2024/10/27-1-scaled.jpg
ORGANIZER;CN="Landesrat":MAILTO:landesrat@landesrat.hu
GEO:47.1433141;17.6495933
X-APPLE-STRUCTURED-LOCATION;VALUE=URI;X-ADDRESS=Kossuth Lajos Művelődési Ház Templom tér 4. Városlőd 8445;X-APPLE-RADIUS=500;X-TITLE=Templom tér 4.:geo:17.6495933,47.1433141
END:VEVENT
END:VCALENDAR