BEGIN:VCALENDAR
VERSION:2.0
PRODID:-//Landesrat.hu - ECPv6.3.2//NONSGML v1.0//EN
CALSCALE:GREGORIAN
METHOD:PUBLISH
X-ORIGINAL-URL:https://landesrat.hu
X-WR-CALDESC:Events for Landesrat.hu
REFRESH-INTERVAL;VALUE=DURATION:PT1H
X-Robots-Tag:noindex
X-PUBLISHED-TTL:PT1H
BEGIN:VTIMEZONE
TZID:Europe/Budapest
BEGIN:DAYLIGHT
TZOFFSETFROM:+0100
TZOFFSETTO:+0200
TZNAME:CEST
DTSTART:20260329T010000
END:DAYLIGHT
BEGIN:STANDARD
TZOFFSETFROM:+0200
TZOFFSETTO:+0100
TZNAME:CET
DTSTART:20261025T010000
END:STANDARD
END:VTIMEZONE
BEGIN:VEVENT
DTSTART;TZID=Europe/Budapest:20260811T090000
DTEND;TZID=Europe/Budapest:20260816T170000
DTSTAMP:20260426T042245
CREATED:20250104T104338Z
LAST-MODIFIED:20260227T064154Z
UID:17099-1786438800-1786899600@landesrat.hu
SUMMARY:XI. Volkstanzwoche
DESCRIPTION:XI. Országos német néptáncosok\, hagyományőrző\, identitást erősítő találkozója és szakmai hete\, a tánccsoportok szakmai fejlődése és a kapcsolatápolás jegyében. \nFelhívás\nJelentkezés a rendezvényre\nÉrtékelő kérdőív
URL:https://landesrat.hu/event/ix-volkstanzwoche-2-2/
LOCATION:Bohyhád\, Bonyhád\, Baranya\, 7150\, Magyarország
CATEGORIES:Landeskalender,Landesrat,Tánc szekció,Tánc szekció képzés
ATTACH;FMTTYPE=image/jpeg:https://landesrat.hu/wp-content/uploads/2023/01/001-Budapest-Tanzfest.jpeg
ORGANIZER;CN="Landesrat":MAILTO:landesrat@landesrat.hu
GEO:46.3315858;18.5312289
END:VEVENT
END:VCALENDAR