BEGIN:VCALENDAR
VERSION:2.0
PRODID:-//Landesrat.hu - ECPv6.3.2//NONSGML v1.0//EN
CALSCALE:GREGORIAN
METHOD:PUBLISH
X-ORIGINAL-URL:https://landesrat.hu
X-WR-CALDESC:Events for Landesrat.hu
REFRESH-INTERVAL;VALUE=DURATION:PT1H
X-Robots-Tag:noindex
X-PUBLISHED-TTL:PT1H
BEGIN:VTIMEZONE
TZID:Europe/Budapest
BEGIN:DAYLIGHT
TZOFFSETFROM:+0100
TZOFFSETTO:+0200
TZNAME:CEST
DTSTART:20260329T010000
END:DAYLIGHT
BEGIN:STANDARD
TZOFFSETFROM:+0200
TZOFFSETTO:+0100
TZNAME:CET
DTSTART:20261025T010000
END:STANDARD
END:VTIMEZONE
BEGIN:VEVENT
DTSTART;TZID=Europe/Budapest:20260705T090000
DTEND;TZID=Europe/Budapest:20260711T170000
DTSTAMP:20260426T025045
CREATED:20250104T101034Z
LAST-MODIFIED:20260213T124238Z
UID:17086-1783242000-1783789200@landesrat.hu
SUMMARY:XIII. Singwoche
DESCRIPTION:Az ének szekció egyhetes szakmai táborában a kórustagok\, kórusvezetők és karnagyoknak lehetőségük nyílik az autentikus hazai sváb népdalkincs elsajátítására. A tábor célja a még fellelhető\, kiadásban még meg nem jelent népdalokat és adott tájegységekre jellemző dialektusokat összegyűjtsék\, lejegyezzék és eredeti formájukban megőrizzék az utókor számára. \nFelhívás\nJelentkezés a rendezvényre\nÉrtékelő kérdőív
URL:https://landesrat.hu/event/xi-singwoche-des-landesrates-2-2/
LOCATION:Deutsches Haus / Német Ház\, Thököly u. 11.\, Veszprém\, Veszprém\, 8200\, Magyarország
CATEGORIES:Egyházzene szekció,Egyházzene szekció képzés,Ének szekció,Ének szekció képzés,Landeskalender,Landesrat
ATTACH;FMTTYPE=image/jpeg:https://landesrat.hu/wp-content/uploads/2024/05/LEM24-07.jpg
ORGANIZER;CN="Landesrat":MAILTO:landesrat@landesrat.hu
GEO:47.1139486;17.9025358
X-APPLE-STRUCTURED-LOCATION;VALUE=URI;X-ADDRESS=Deutsches Haus / Német Ház Thököly u. 11. Veszprém Veszprém 8200 Magyarország;X-APPLE-RADIUS=500;X-TITLE=Thököly u. 11.:geo:17.9025358,47.1139486
END:VEVENT
BEGIN:VEVENT
DTSTART;TZID=Europe/Budapest:20260705T090000
DTEND;TZID=Europe/Budapest:20260711T170000
DTSTAMP:20260426T025045
CREATED:20250104T102915Z
LAST-MODIFIED:20260213T124411Z
UID:17095-1783242000-1783789200@landesrat.hu
SUMMARY:XVII. Harmonikawoche
DESCRIPTION:A harmonika szekció szervezésében egyhetes szakmai hét keretében sajátíthatják el a fiatal harmonikások az autentikus hazai sváb dallamokat. A tábor célja egyúttal a felnövekvő muzsikus generáció zenei ízlésének formálása. \nFelhívás\nJelentkezés a rendezvényre\nÉrtékelő kérdőív
URL:https://landesrat.hu/event/harmonikawoche-harmonika-tabor-2-2/
LOCATION:Bakony Panzió\, Magyar u. 60.\, Tótvázsony\, Veszprém\, 8246
CATEGORIES:Landeskalender,Landesrat,Zenekari szekció,Zenekari szekció képzés
ATTACH;FMTTYPE=image/jpeg:https://landesrat.hu/wp-content/uploads/2024/07/LAH24-50.jpg
ORGANIZER;CN="Landesrat":MAILTO:landesrat@landesrat.hu
GEO:47.0312963;17.7917881
X-APPLE-STRUCTURED-LOCATION;VALUE=URI;X-ADDRESS=Bakony Panzió Magyar u. 60. Tótvázsony Veszprém 8246;X-APPLE-RADIUS=500;X-TITLE=Magyar u. 60.:geo:17.7917881,47.0312963
END:VEVENT
END:VCALENDAR