BEGIN:VCALENDAR
VERSION:2.0
PRODID:-//Landesrat.hu - ECPv6.3.2//NONSGML v1.0//EN
CALSCALE:GREGORIAN
METHOD:PUBLISH
X-ORIGINAL-URL:https://landesrat.hu
X-WR-CALDESC:Events for Landesrat.hu
REFRESH-INTERVAL;VALUE=DURATION:PT1H
X-Robots-Tag:noindex
X-PUBLISHED-TTL:PT1H
BEGIN:VTIMEZONE
TZID:Europe/Budapest
BEGIN:DAYLIGHT
TZOFFSETFROM:+0100
TZOFFSETTO:+0200
TZNAME:CEST
DTSTART:20250330T010000
END:DAYLIGHT
BEGIN:STANDARD
TZOFFSETFROM:+0200
TZOFFSETTO:+0100
TZNAME:CET
DTSTART:20251026T010000
END:STANDARD
END:VTIMEZONE
BEGIN:VEVENT
DTSTART;TZID=Europe/Budapest:20251108T100000
DTEND;TZID=Europe/Budapest:20251108T170000
DTSTAMP:20260426T054013
CREATED:20240101T223018Z
LAST-MODIFIED:20251001T142418Z
UID:13393-1762596000-1762621200@landesrat.hu
SUMMARY:II. Országos szakmai nap kórusvezetőknek és kántoroknak
DESCRIPTION:Az ének és az egyházzenei szekció szakmai rendezvénye a kórusvezetők és kántorok készségeinek fejlesztéséért\, a német népi és egyházi énekek megismeréséért\, magas színvonalú előadásának és értékvesztés nélküli átörökítésének szakmai segítéséért. \nJelentkezés\nKérdőív kitöltése
URL:https://landesrat.hu/event/orszagos-szakmai-nap-kantoroknak-2/
LOCATION:Deutsches Haus / Német Ház\, Thököly u. 11.\, Veszprém\, Veszprém\, 8200\, Magyarország
CATEGORIES:Egyházzene szekció,Egyházzene szekció képzés,Landeskalender,Landesrat
ATTACH;FMTTYPE=image/jpeg:https://landesrat.hu/wp-content/uploads/2024/01/DSC_4303-scaled.jpg
ORGANIZER;CN="Landesrat":MAILTO:landesrat@landesrat.hu
GEO:47.1139486;17.9025358
X-APPLE-STRUCTURED-LOCATION;VALUE=URI;X-ADDRESS=Deutsches Haus / Német Ház Thököly u. 11. Veszprém Veszprém 8200 Magyarország;X-APPLE-RADIUS=500;X-TITLE=Thököly u. 11.:geo:17.9025358,47.1139486
END:VEVENT
END:VCALENDAR