BEGIN:VCALENDAR
VERSION:2.0
PRODID:-//Landesrat.hu - ECPv6.3.2//NONSGML v1.0//EN
CALSCALE:GREGORIAN
METHOD:PUBLISH
X-WR-CALNAME:Landesrat.hu
X-ORIGINAL-URL:https://landesrat.hu/de/
X-WR-CALDESC:Veranstaltungen für Landesrat.hu
REFRESH-INTERVAL;VALUE=DURATION:PT1H
X-Robots-Tag:noindex
X-PUBLISHED-TTL:PT1H
BEGIN:VTIMEZONE
TZID:Europe/Budapest
BEGIN:DAYLIGHT
TZOFFSETFROM:+0100
TZOFFSETTO:+0200
TZNAME:CEST
DTSTART:20260329T010000
END:DAYLIGHT
BEGIN:STANDARD
TZOFFSETFROM:+0200
TZOFFSETTO:+0100
TZNAME:CET
DTSTART:20261025T010000
END:STANDARD
END:VTIMEZONE
BEGIN:VEVENT
DTSTART;TZID=Europe/Budapest:20260425T090000
DTEND;TZID=Europe/Budapest:20260425T170000
DTSTAMP:20260425T215448
CREATED:20250104T060335Z
LAST-MODIFIED:20260227T094723Z
UID:17051-1777107600-1777136400@landesrat.hu
SUMMARY:Wertungsspiel der Blaskapellen Region Süd
DESCRIPTION:Regionaler fachlicher Wettbewerb anhand des vom Landesrat erarbeiteten Qualifikationssystems. Die Qualifikationsveranstaltungen motivieren die Kapellen zur niveauvollen fachlichen Arbeit\, und das Kriteriumssystem sichert den Erhalt des ungarndeutschen Liederschatzes bzw. der authentischen Vortragsweise.
URL:https://landesrat.hu/de/event/wertungsspiel-der-blaskapellen-region-sued/
LOCATION:Pécsváradi Művelődési Központ\, Kossuth L. u. 31.\, Pécsvárad\, 7720
CATEGORIES:Kapellensektion,Kapellensektion Veranstaltungen,Landeskalender,Landesrat
ATTACH;FMTTYPE=image/jpeg:https://landesrat.hu/wp-content/uploads/2024/09/LJUG24-94.jpg
ORGANIZER;CN="Landesrat":MAILTO:landesrat@landesrat.hu
GEO:46.1591341;18.41852
X-APPLE-STRUCTURED-LOCATION;VALUE=URI;X-ADDRESS=Pécsváradi Művelődési Központ Kossuth L. u. 31. Pécsvárad 7720;X-APPLE-RADIUS=500;X-TITLE=Kossuth L. u. 31.:geo:18.41852,46.1591341
END:VEVENT
END:VCALENDAR