BEGIN:VCALENDAR
VERSION:2.0
PRODID:-//Landesrat.hu - ECPv6.3.2//NONSGML v1.0//EN
CALSCALE:GREGORIAN
METHOD:PUBLISH
X-ORIGINAL-URL:https://landesrat.hu/de/
X-WR-CALDESC:Veranstaltungen für Landesrat.hu
REFRESH-INTERVAL;VALUE=DURATION:PT1H
X-Robots-Tag:noindex
X-PUBLISHED-TTL:PT1H
BEGIN:VTIMEZONE
TZID:Europe/Budapest
BEGIN:DAYLIGHT
TZOFFSETFROM:+0100
TZOFFSETTO:+0200
TZNAME:CEST
DTSTART:20260329T010000
END:DAYLIGHT
BEGIN:STANDARD
TZOFFSETFROM:+0200
TZOFFSETTO:+0100
TZNAME:CET
DTSTART:20261025T010000
END:STANDARD
END:VTIMEZONE
BEGIN:VEVENT
DTSTART;TZID=Europe/Budapest:20260515T090000
DTEND;TZID=Europe/Budapest:20260517T170000
DTSTAMP:20260426T060508
CREATED:20250104T094929Z
LAST-MODIFIED:20260227T094732Z
UID:17081-1778835600-1779037200@landesrat.hu
SUMMARY:22. Landestreffen der Musiker mit traditionelle Instrumenten
DESCRIPTION:22. Landestreffen der Musiker\, die die typisch ungarndeutschen Instrumente ertönen lassen können\, um ihr Wissen kennenzulernen und zu bewahren.
URL:https://landesrat.hu/de/event/22-landestreffen-der-musiker-mit-traditionelle-instrumenten/
LOCATION:Szálka\, Szálka\, Tolna\, 7121\, Magyarország
CATEGORIES:Kapellensektion,Kapellensektion Veranstaltungen,Landeskalender,Landesrat
ATTACH;FMTTYPE=image/jpeg:https://landesrat.hu/wp-content/uploads/2024/06/LAM24-48.jpg
ORGANIZER;CN="Landesrat":MAILTO:landesrat@landesrat.hu
GEO:46.2888913;18.6378262
END:VEVENT
END:VCALENDAR