BEGIN:VCALENDAR
VERSION:2.0
PRODID:-//Landesrat.hu - ECPv6.3.2//NONSGML v1.0//EN
CALSCALE:GREGORIAN
METHOD:PUBLISH
X-ORIGINAL-URL:https://landesrat.hu/de/
X-WR-CALDESC:Veranstaltungen für Landesrat.hu
REFRESH-INTERVAL;VALUE=DURATION:PT1H
X-Robots-Tag:noindex
X-PUBLISHED-TTL:PT1H
BEGIN:VTIMEZONE
TZID:Europe/Budapest
BEGIN:DAYLIGHT
TZOFFSETFROM:+0100
TZOFFSETTO:+0200
TZNAME:CEST
DTSTART:20260329T010000
END:DAYLIGHT
BEGIN:STANDARD
TZOFFSETFROM:+0200
TZOFFSETTO:+0100
TZNAME:CET
DTSTART:20261025T010000
END:STANDARD
END:VTIMEZONE
BEGIN:VEVENT
DTSTART;TZID=Europe/Budapest:20260418T090000
DTEND;TZID=Europe/Budapest:20260418T170000
DTSTAMP:20260425T215803
CREATED:20250104T052545Z
LAST-MODIFIED:20260227T094437Z
UID:17032-1776502800-1776531600@landesrat.hu
SUMMARY:28. Fest der ungarndeutschen Kirchenmusik
DESCRIPTION:Die Sektion für Kirchenmusik betrachtet es als eine grundlegende Aufgabe\, das deutschsprachige Glaubensleben und die deutschsprachige Kirchenmusik neu zu beleben. Sie organisiert in diesem Sinne von Jahr zu Jahr das Fest der ungarndeutschen Kirchenmusik\, an dem Chöre aus dem ganzen Land teilnehmen.
URL:https://landesrat.hu/de/event/28-fest-der-ungarndeutschen-kirchenmusik/
LOCATION:Mosoni Nepomuki Szent János Plébániatemplom\, Szent István király út 128.\, Mosonmagyaróvár\, Győr-Moson-Sopron\, 9200
CATEGORIES:Kirchenmusiksektion,Kirchenmusiksektion Veranstaltungen,Landeskalender,Landesrat
ATTACH;FMTTYPE=image/jpeg:https://landesrat.hu/wp-content/uploads/2025/01/DSC_0809-scaled.jpg
ORGANIZER;CN="Landesrat":MAILTO:landesrat@landesrat.hu
GEO:47.8681469;17.2689169
X-APPLE-STRUCTURED-LOCATION;VALUE=URI;X-ADDRESS=Mosoni Nepomuki Szent János Plébániatemplom Szent István király út 128. Mosonmagyaróvár Győr-Moson-Sopron 9200;X-APPLE-RADIUS=500;X-TITLE=Szent István király út 128.:geo:17.2689169,47.8681469
END:VEVENT
END:VCALENDAR